BEGIN:VCALENDAR
VERSION:2.0
PRODID:-//Distrito Lasallista de Bogot&aacute; - ECPv6.10.0//NONSGML v1.0//EN
CALSCALE:GREGORIAN
METHOD:PUBLISH
X-WR-CALNAME:Distrito Lasallista de Bogot&aacute;
X-ORIGINAL-URL:https://www.lasalle.org.co
X-WR-CALDESC:Eventos para Distrito Lasallista de Bogot&aacute;
REFRESH-INTERVAL;VALUE=DURATION:PT1H
X-Robots-Tag:noindex
X-PUBLISHED-TTL:PT1H
BEGIN:VTIMEZONE
TZID:America/New_York
BEGIN:DAYLIGHT
TZOFFSETFROM:-0500
TZOFFSETTO:-0400
TZNAME:EDT
DTSTART:20260308T070000
END:DAYLIGHT
BEGIN:STANDARD
TZOFFSETFROM:-0400
TZOFFSETTO:-0500
TZNAME:EST
DTSTART:20261101T060000
END:STANDARD
END:VTIMEZONE
BEGIN:VEVENT
DTSTART;TZID=America/New_York:20260420T000000
DTEND;TZID=America/New_York:20260426T235900
DTSTAMP:20260423T230059
CREATED:20260420T130423Z
LAST-MODIFIED:20260420T130423Z
UID:15348-1776643200-1777247940@www.lasalle.org.co
SUMMARY:Visita del Superior General al Distrito de Bogotá
DESCRIPTION:
URL:https://www.lasalle.org.co/event/visita-del-superior-general-al-distrito-de-bogota/
CATEGORIES:Pastoral
END:VEVENT
BEGIN:VEVENT
DTSTART;VALUE=DATE:20260425
DTEND;VALUE=DATE:20260426
DTSTAMP:20260423T230059
CREATED:20260420T130411Z
LAST-MODIFIED:20260420T130411Z
UID:15350-1777075200-1777161599@www.lasalle.org.co
SUMMARY:Ceremonia de Profesión Perpetua
DESCRIPTION:
URL:https://www.lasalle.org.co/event/ceremonia-de-profesion-perpetua/
CATEGORIES:Pastoral
END:VEVENT
BEGIN:VEVENT
DTSTART;VALUE=DATE:20260425
DTEND;VALUE=DATE:20260426
DTSTAMP:20260423T230059
CREATED:20260420T130411Z
LAST-MODIFIED:20260420T130411Z
UID:15352-1777075200-1777161599@www.lasalle.org.co
SUMMARY:Día Vocacional Lasallista
DESCRIPTION:
URL:https://www.lasalle.org.co/event/dia-vocacional-lasallista-3/
CATEGORIES:Pastoral
END:VEVENT
BEGIN:VEVENT
DTSTART;VALUE=DATE:20260426
DTEND;VALUE=DATE:20260427
DTSTAMP:20260423T230059
CREATED:20260422T134056Z
LAST-MODIFIED:20260422T134056Z
UID:15354-1777161600-1777247999@www.lasalle.org.co
SUMMARY:Beato Nicolás Roland\, Presbítero Nuestra Señora del Buen Consejo
DESCRIPTION:
URL:https://www.lasalle.org.co/event/beato-nicolas-roland-presbitero-nuestra-senora-del-buen-consejo/
CATEGORIES:Pastoral
END:VEVENT
END:VCALENDAR