BEGIN:VCALENDAR
VERSION:2.0
PRODID:-//Distrito Lasallista de Bogot&aacute; - ECPv6.10.0//NONSGML v1.0//EN
CALSCALE:GREGORIAN
METHOD:PUBLISH
X-WR-CALNAME:Distrito Lasallista de Bogot&aacute;
X-ORIGINAL-URL:https://www.lasalle.org.co
X-WR-CALDESC:Eventos para Distrito Lasallista de Bogot&aacute;
REFRESH-INTERVAL;VALUE=DURATION:PT1H
X-Robots-Tag:noindex
X-PUBLISHED-TTL:PT1H
BEGIN:VTIMEZONE
TZID:America/New_York
BEGIN:DAYLIGHT
TZOFFSETFROM:-0500
TZOFFSETTO:-0400
TZNAME:EDT
DTSTART:20260308T070000
END:DAYLIGHT
BEGIN:STANDARD
TZOFFSETFROM:-0400
TZOFFSETTO:-0500
TZNAME:EST
DTSTART:20261101T060000
END:STANDARD
END:VTIMEZONE
BEGIN:VEVENT
DTSTART;VALUE=DATE:20260111
DTEND;VALUE=DATE:20260112
DTSTAMP:20260425T114835
CREATED:20260120T203458Z
LAST-MODIFIED:20260120T203458Z
UID:15125-1768089600-1768175999@www.lasalle.org.co
SUMMARY:El Bautismo del Señor 3ra Misión Internacional Lasallista - Playa del Carmen\, México
DESCRIPTION:
URL:https://www.lasalle.org.co/event/el-bautismo-del-senor-3ra-mision-internacional-lasallista-playa-del-carmen-mexico/
CATEGORIES:La Salle
END:VEVENT
BEGIN:VEVENT
DTSTART;VALUE=DATE:20260112
DTEND;VALUE=DATE:20260113
DTSTAMP:20260425T114835
CREATED:20260120T203541Z
LAST-MODIFIED:20260120T203541Z
UID:15127-1768176000-1768262399@www.lasalle.org.co
SUMMARY:Festivo – Reyes Magos 3ra Misión Internacional Lasallista - Playa del Carmen\, México
DESCRIPTION:
URL:https://www.lasalle.org.co/event/festivo-reyes-magos-3ra-mision-internacional-lasallista-playa-del-carmen-mexico/
CATEGORIES:La Salle
END:VEVENT
BEGIN:VEVENT
DTSTART;VALUE=DATE:20260113
DTEND;VALUE=DATE:20260114
DTSTAMP:20260425T114835
CREATED:20260120T203634Z
LAST-MODIFIED:20260120T203634Z
UID:15129-1768262400-1768348799@www.lasalle.org.co
SUMMARY:Inicio de labores institucionales 3ra Misión Internacional Lasallista - Playa del Carmen\, México
DESCRIPTION:
URL:https://www.lasalle.org.co/event/inicio-de-labores-institucionales-3ra-mision-internacional-lasallista-playa-del-carmen-mexico/
CATEGORIES:La Salle
END:VEVENT
END:VCALENDAR