BEGIN:VCALENDAR
VERSION:2.0
PRODID:-//Distrito Lasallista de Bogot&aacute; - ECPv6.10.0//NONSGML v1.0//EN
CALSCALE:GREGORIAN
METHOD:PUBLISH
X-ORIGINAL-URL:https://www.lasalle.org.co
X-WR-CALDESC:Eventos para Distrito Lasallista de Bogot&aacute;
REFRESH-INTERVAL;VALUE=DURATION:PT1H
X-Robots-Tag:noindex
X-PUBLISHED-TTL:PT1H
BEGIN:VTIMEZONE
TZID:America/New_York
BEGIN:DAYLIGHT
TZOFFSETFROM:-0500
TZOFFSETTO:-0400
TZNAME:EDT
DTSTART:20240310T070000
END:DAYLIGHT
BEGIN:STANDARD
TZOFFSETFROM:-0400
TZOFFSETTO:-0500
TZNAME:EST
DTSTART:20241103T060000
END:STANDARD
END:VTIMEZONE
BEGIN:VEVENT
DTSTART;TZID=America/New_York:20241108T074500
DTEND;TZID=America/New_York:20241108T083000
DTSTAMP:20260425T211904
CREATED:20241107T200458Z
LAST-MODIFIED:20241107T200458Z
UID:13260-1731051900-1731054600@www.lasalle.org.co
SUMMARY:Bienvenida e Inscripciones
DESCRIPTION:
URL:https://www.lasalle.org.co/event/bienvenida-e-inscripciones/
CATEGORIES:Levadura
END:VEVENT
BEGIN:VEVENT
DTSTART;TZID=America/New_York:20241108T083000
DTEND;TZID=America/New_York:20241108T090000
DTSTAMP:20260425T211904
CREATED:20241107T200535Z
LAST-MODIFIED:20241107T200650Z
UID:13262-1731054600-1731056400@www.lasalle.org.co
SUMMARY:Apertura e Instalación del Foro
DESCRIPTION:
URL:https://www.lasalle.org.co/event/apertura-e-instalacion-del-foro/
CATEGORIES:Levadura
END:VEVENT
BEGIN:VEVENT
DTSTART;TZID=America/New_York:20241108T090000
DTEND;TZID=America/New_York:20241108T100000
DTSTAMP:20260425T211904
CREATED:20241107T200735Z
LAST-MODIFIED:20241108T151513Z
UID:13264-1731056400-1731060000@www.lasalle.org.co
SUMMARY:Conferencia Proyectos y acciones con comunidades vulnerables. Presentación del Visor Georreferencial de Proyección Social
DESCRIPTION:
URL:https://www.lasalle.org.co/event/conferencia-proyectos-y-acciones-con-comunidades-vulnerables-presentacion-del-visor-georreferencial-de-proyeccion-social/
CATEGORIES:Levadura
END:VEVENT
BEGIN:VEVENT
DTSTART;TZID=America/New_York:20241108T100000
DTEND;TZID=America/New_York:20241108T103000
DTSTAMP:20260425T211904
CREATED:20241107T200834Z
LAST-MODIFIED:20241107T200834Z
UID:13266-1731060000-1731061800@www.lasalle.org.co
SUMMARY:Ponencia: Fundamentos del Proyecto Levadura
DESCRIPTION:
URL:https://www.lasalle.org.co/event/ponencia-fundamentos-del-proyecto-levadura/
CATEGORIES:Levadura
END:VEVENT
BEGIN:VEVENT
DTSTART;TZID=America/New_York:20241108T104000
DTEND;TZID=America/New_York:20241108T110000
DTSTAMP:20260425T211904
CREATED:20241108T141355Z
LAST-MODIFIED:20241108T141355Z
UID:13393-1731062400-1731063600@www.lasalle.org.co
SUMMARY:#PermanezcamosUnidos
DESCRIPTION:
URL:https://www.lasalle.org.co/event/permanezcamosunidos/
CATEGORIES:Levadura
END:VEVENT
BEGIN:VEVENT
DTSTART;TZID=America/New_York:20241108T110000
DTEND;TZID=America/New_York:20241108T120000
DTSTAMP:20260425T211904
CREATED:20241108T141439Z
LAST-MODIFIED:20241108T141439Z
UID:13395-1731063600-1731067200@www.lasalle.org.co
SUMMARY:Conversatorio Levadura
DESCRIPTION:Lic. Jesús Alberto Vargas\nCoord. De Proyección Institucional y\nrelación con el entorno\nColegio Juan Luis Londoño
URL:https://www.lasalle.org.co/event/conversatorio-levadura/
CATEGORIES:Levadura
END:VEVENT
BEGIN:VEVENT
DTSTART;TZID=America/New_York:20241108T113000
DTEND;TZID=America/New_York:20241108T120000
DTSTAMP:20260425T211904
CREATED:20241108T153835Z
LAST-MODIFIED:20241108T153835Z
UID:13427-1731065400-1731067200@www.lasalle.org.co
SUMMARY:Espacio Parmenia Retroalimentación de la Experiencia
DESCRIPTION:Hna. Isabel Sofía Molina HGS\nRectora\nColegio Juan Luis Londoño
URL:https://www.lasalle.org.co/event/espacio-parmenia-retroalimentacion-de-la-experiencia/
CATEGORIES:Levadura
END:VEVENT
BEGIN:VEVENT
DTSTART;TZID=America/New_York:20241108T120000
DTEND;TZID=America/New_York:20241108T124000
DTSTAMP:20260425T211904
CREATED:20241108T141521Z
LAST-MODIFIED:20241108T142915Z
UID:13397-1731067200-1731069600@www.lasalle.org.co
SUMMARY:Plenaria Levadura
DESCRIPTION:Lic. Diego Javier Beltrán\nCoordinador Académico\nColegio Juan Luis Londoño
URL:https://www.lasalle.org.co/event/plenaria-levadura/
CATEGORIES:Levadura
END:VEVENT
BEGIN:VEVENT
DTSTART;TZID=America/New_York:20241108T124500
DTEND;TZID=America/New_York:20241108T133000
DTSTAMP:20260425T211904
CREATED:20241108T143008Z
LAST-MODIFIED:20241108T143008Z
UID:13399-1731069900-1731072600@www.lasalle.org.co
SUMMARY:Almuerzo
DESCRIPTION:Equipo logístico
URL:https://www.lasalle.org.co/event/almuerzo/
CATEGORIES:Levadura
END:VEVENT
BEGIN:VEVENT
DTSTART;TZID=America/New_York:20241108T133000
DTEND;TZID=America/New_York:20241108T170000
DTSTAMP:20260425T211904
CREATED:20241108T143836Z
LAST-MODIFIED:20241108T151557Z
UID:13401-1731072600-1731085200@www.lasalle.org.co
SUMMARY:Ponencia: El Espacio Parmenia\, nuestra opción formativa
DESCRIPTION:Hna. Isabel Sofía Molina HGS\nRectora\nColegio Juan Luis Londoño
URL:https://www.lasalle.org.co/event/ponencia-el-espacio-parmenia-nuestra-opcion-formativa/
CATEGORIES:Levadura
END:VEVENT
BEGIN:VEVENT
DTSTART;TZID=America/New_York:20241108T142000
DTEND;TZID=America/New_York:20241108T150000
DTSTAMP:20260425T211904
CREATED:20241108T143921Z
LAST-MODIFIED:20241108T151549Z
UID:13403-1731075600-1731078000@www.lasalle.org.co
SUMMARY:Conversatorio Levadura
DESCRIPTION:Hna. Isabel Sofía Molina HGS\nRectora\nColegio Juan Luis Londoño
URL:https://www.lasalle.org.co/event/conversatorio-levadura-2/
CATEGORIES:Levadura
END:VEVENT
BEGIN:VEVENT
DTSTART;TZID=America/New_York:20241108T150000
DTEND;TZID=America/New_York:20241108T154000
DTSTAMP:20260425T211904
CREATED:20241108T150813Z
LAST-MODIFIED:20241108T150813Z
UID:13405-1731078000-1731080400@www.lasalle.org.co
SUMMARY:Plenaria Levadura
DESCRIPTION:Lic. Diego Javier Beltrán\nCoordinador Académico\nColegio Juan Luis Londoño
URL:https://www.lasalle.org.co/event/plenaria-levadura-2/
CATEGORIES:Levadura
END:VEVENT
BEGIN:VEVENT
DTSTART;TZID=America/New_York:20241108T154000
DTEND;TZID=America/New_York:20241108T160000
DTSTAMP:20260425T211904
CREATED:20241108T150857Z
LAST-MODIFIED:20241108T150857Z
UID:13407-1731080400-1731081600@www.lasalle.org.co
SUMMARY:#PermanezcamosUnidos
DESCRIPTION:Equipo Logístico
URL:https://www.lasalle.org.co/event/permanezcamosunidos-2/
CATEGORIES:Levadura
END:VEVENT
BEGIN:VEVENT
DTSTART;TZID=America/New_York:20241108T160000
DTEND;TZID=America/New_York:20241108T173000
DTSTAMP:20260425T211904
CREATED:20241108T151011Z
LAST-MODIFIED:20241108T151011Z
UID:13409-1731081600-1731087000@www.lasalle.org.co
SUMMARY:Socialización de Experiencias Levadura
DESCRIPTION:Representantes de las\nObras Educativas de la Red
URL:https://www.lasalle.org.co/event/socializacion-de-experiencias-levadura/
CATEGORIES:Levadura
END:VEVENT
BEGIN:VEVENT
DTSTART;TZID=America/New_York:20241108T173000
DTEND;TZID=America/New_York:20241108T180000
DTSTAMP:20260425T211904
CREATED:20241108T151055Z
LAST-MODIFIED:20241108T151055Z
UID:13411-1731087000-1731088800@www.lasalle.org.co
SUMMARY:Acción de Gracias
DESCRIPTION:Hna. Isabel Sofía Molina HGS\nRectora Colegio Juan Luis Londoño
URL:https://www.lasalle.org.co/event/accion-de-gracias/
CATEGORIES:Levadura
END:VEVENT
BEGIN:VEVENT
DTSTART;TZID=America/New_York:20241108T180000
DTEND;TZID=America/New_York:20241108T184000
DTSTAMP:20260425T211904
CREATED:20241108T151141Z
LAST-MODIFIED:20241108T151141Z
UID:13413-1731088800-1731091200@www.lasalle.org.co
SUMMARY:Lanzamiento Distrital Itinerario Formativo del Movimiento Indivisa Manent
DESCRIPTION:Hno. Andrés Felipe Caballero\nSecretario de Pastoral\nDistrito Lasallista de Bogotá
URL:https://www.lasalle.org.co/event/lanzamiento-distrital-itinerario-formativo-del-movimiento-indivisa-manent/
CATEGORIES:Levadura
END:VEVENT
BEGIN:VEVENT
DTSTART;TZID=America/New_York:20241108T184000
DTEND;TZID=America/New_York:20241108T193000
DTSTAMP:20260425T211904
CREATED:20241108T151233Z
LAST-MODIFIED:20241108T151233Z
UID:13415-1731091200-1731094200@www.lasalle.org.co
SUMMARY:Ágape fraterno y finalización
DESCRIPTION:Equipo Logístico
URL:https://www.lasalle.org.co/event/agape-fraterno-y-finalizacion/
CATEGORIES:Levadura
END:VEVENT
END:VCALENDAR