BEGIN:VCALENDAR
VERSION:2.0
PRODID:-//Distrito Lasallista de Bogot&aacute; - ECPv6.10.0//NONSGML v1.0//EN
CALSCALE:GREGORIAN
METHOD:PUBLISH
X-WR-CALNAME:Distrito Lasallista de Bogot&aacute;
X-ORIGINAL-URL:https://www.lasalle.org.co
X-WR-CALDESC:Eventos para Distrito Lasallista de Bogot&aacute;
REFRESH-INTERVAL;VALUE=DURATION:PT1H
X-Robots-Tag:noindex
X-PUBLISHED-TTL:PT1H
BEGIN:VTIMEZONE
TZID:America/New_York
BEGIN:DAYLIGHT
TZOFFSETFROM:-0500
TZOFFSETTO:-0400
TZNAME:EDT
DTSTART:20240310T070000
END:DAYLIGHT
BEGIN:STANDARD
TZOFFSETFROM:-0400
TZOFFSETTO:-0500
TZNAME:EST
DTSTART:20241103T060000
END:STANDARD
END:VTIMEZONE
BEGIN:VEVENT
DTSTART;TZID=America/New_York:20241109T080000
DTEND;TZID=America/New_York:20241109T083000
DTSTAMP:20260425T211808
CREATED:20241108T151814Z
LAST-MODIFIED:20241108T151958Z
UID:13417-1731139200-1731141000@www.lasalle.org.co
SUMMARY:Levadura para un entorno más fraterno
DESCRIPTION:Equipo Logístico
URL:https://www.lasalle.org.co/event/levadura-para-un-entorno-mas-fraterno/
CATEGORIES:Levadura
END:VEVENT
BEGIN:VEVENT
DTSTART;TZID=America/New_York:20241109T080500
DTEND;TZID=America/New_York:20241109T081500
DTSTAMP:20260425T211808
CREATED:20241108T151909Z
LAST-MODIFIED:20241109T160042Z
UID:13419-1731139500-1731140100@www.lasalle.org.co
SUMMARY:Oración
DESCRIPTION:Sebastián Santos Ramírez\nEquipo Casa Pastoral
URL:https://www.lasalle.org.co/event/oracion/
CATEGORIES:Levadura
END:VEVENT
BEGIN:VEVENT
DTSTART;TZID=America/New_York:20241109T083000
DTEND;TZID=America/New_York:20241109T090000
DTSTAMP:20260425T211808
CREATED:20241108T152142Z
LAST-MODIFIED:20241108T152156Z
UID:13421-1731141000-1731142800@www.lasalle.org.co
SUMMARY:Espacio Parmenia Ponencia: Somos Levadura
DESCRIPTION:Hno. Andrés Felipe Caballero\nEquipo Casa Pastoral
URL:https://www.lasalle.org.co/event/espacio-parmenia-ponencia-somos-levadura/
CATEGORIES:Levadura
END:VEVENT
BEGIN:VEVENT
DTSTART;TZID=America/New_York:20241109T091000
DTEND;TZID=America/New_York:20241109T091000
DTSTAMP:20260425T211808
CREATED:20241108T153531Z
LAST-MODIFIED:20241108T153531Z
UID:13423-1731143400-1731143400@www.lasalle.org.co
SUMMARY:Lanzamiento Distrital Política Distrital de Proyección Social
DESCRIPTION:Eliana Marcela Arroyave\nEquipo Casa Pastoral
URL:https://www.lasalle.org.co/event/lanzamiento-distrital-politica-distrital-de-proyeccion-social/
CATEGORIES:Levadura
END:VEVENT
BEGIN:VEVENT
DTSTART;TZID=America/New_York:20241109T093000
DTEND;TZID=America/New_York:20241109T113000
DTSTAMP:20260425T211808
CREATED:20241108T153749Z
LAST-MODIFIED:20241108T153749Z
UID:13425-1731144600-1731151800@www.lasalle.org.co
SUMMARY:Experiencia de Inmersión Visita al Barrio La Fortuna
DESCRIPTION:Líderes Territoriales\nComunidad Levadura JLL \nCristian Javier Cárdenas\nCoordinador de Pastoral JLL
URL:https://www.lasalle.org.co/event/experiencia-de-inmersion-visita-al-barrio-la-fortuna/
CATEGORIES:Levadura
END:VEVENT
BEGIN:VEVENT
DTSTART;TZID=America/New_York:20241109T120000
DTEND;TZID=America/New_York:20241109T133000
DTSTAMP:20260425T211808
CREATED:20241108T154036Z
LAST-MODIFIED:20241108T154036Z
UID:13429-1731153600-1731159000@www.lasalle.org.co
SUMMARY:Almuerzo
DESCRIPTION:Equipo Logístico
URL:https://www.lasalle.org.co/event/almuerzo-2/
CATEGORIES:Levadura
END:VEVENT
BEGIN:VEVENT
DTSTART;TZID=America/New_York:20241109T133000
DTEND;TZID=America/New_York:20241109T140000
DTSTAMP:20260425T211808
CREATED:20241108T154349Z
LAST-MODIFIED:20241108T154534Z
UID:13431-1731159000-1731160800@www.lasalle.org.co
SUMMARY:Acuerdos y Compromisos
DESCRIPTION:Hna. Isabel Sofía Molina HGS\nRectora \nLic. Jesús Alberto Vargas\nCoord. De Proyección Institucional y\nrelación con el entorno. \nColegio Juan Luis Londoño
URL:https://www.lasalle.org.co/event/acuerdos-y-compromisos/
CATEGORIES:Levadura
END:VEVENT
BEGIN:VEVENT
DTSTART;TZID=America/New_York:20241109T134500
DTEND;TZID=America/New_York:20241109T142000
DTSTAMP:20260425T211808
CREATED:20241108T154441Z
LAST-MODIFIED:20241108T154441Z
UID:13433-1731159900-1731162000@www.lasalle.org.co
SUMMARY:Plenaria Levadura
DESCRIPTION:Lic. Cesar Augusto Alvis\nCoordinador de Desarrollo Humano\nColegio Juan Luis Londoño
URL:https://www.lasalle.org.co/event/plenaria-levadura-3/
CATEGORIES:Levadura
END:VEVENT
BEGIN:VEVENT
DTSTART;TZID=America/New_York:20241109T142000
DTEND;TZID=America/New_York:20241109T160000
DTSTAMP:20260425T211808
CREATED:20241108T154706Z
LAST-MODIFIED:20241108T154706Z
UID:13435-1731162000-1731168000@www.lasalle.org.co
SUMMARY:Concierto de Agradecimiento
DESCRIPTION:Programa Tocar y Luchar
URL:https://www.lasalle.org.co/event/concierto-de-agradecimiento/
CATEGORIES:Levadura
END:VEVENT
BEGIN:VEVENT
DTSTART;TZID=America/New_York:20241109T160000
DTEND;TZID=America/New_York:20241109T163000
DTSTAMP:20260425T211808
CREATED:20241108T154825Z
LAST-MODIFIED:20241108T154825Z
UID:13437-1731168000-1731169800@www.lasalle.org.co
SUMMARY:Finalización
DESCRIPTION:Equipo Logístico
URL:https://www.lasalle.org.co/event/finalizacion/
CATEGORIES:Levadura
END:VEVENT
END:VCALENDAR