BEGIN:VCALENDAR
VERSION:2.0
PRODID:-//Distrito Lasallista de Bogot&aacute; - ECPv6.10.0//NONSGML v1.0//EN
CALSCALE:GREGORIAN
METHOD:PUBLISH
X-ORIGINAL-URL:https://www.lasalle.org.co
X-WR-CALDESC:Eventos para Distrito Lasallista de Bogot&aacute;
REFRESH-INTERVAL;VALUE=DURATION:PT1H
X-Robots-Tag:noindex
X-PUBLISHED-TTL:PT1H
BEGIN:VTIMEZONE
TZID:America/New_York
BEGIN:DAYLIGHT
TZOFFSETFROM:-0500
TZOFFSETTO:-0400
TZNAME:EDT
DTSTART:20260308T070000
END:DAYLIGHT
BEGIN:STANDARD
TZOFFSETFROM:-0400
TZOFFSETTO:-0500
TZNAME:EST
DTSTART:20261101T060000
END:STANDARD
END:VTIMEZONE
BEGIN:VEVENT
DTSTART;VALUE=DATE:20260110
DTEND;VALUE=DATE:20260111
DTSTAMP:20260425T195049
CREATED:20260120T203301Z
LAST-MODIFIED:20260120T203301Z
UID:15123-1768003200-1768089599@www.lasalle.org.co
SUMMARY:Regreso de los Hermanos a las Comunidades
DESCRIPTION:
URL:https://www.lasalle.org.co/event/regreso-de-los-hermanos-a-las-comunidades/
CATEGORIES:Pastoral
END:VEVENT
BEGIN:VEVENT
DTSTART;VALUE=DATE:20260113
DTEND;VALUE=DATE:20260114
DTSTAMP:20260425T195049
CREATED:20260120T203705Z
LAST-MODIFIED:20260120T203705Z
UID:15131-1768262400-1768348799@www.lasalle.org.co
SUMMARY:Ingreso del Personal de Procuraduría de La Salle
DESCRIPTION:
URL:https://www.lasalle.org.co/event/ingreso-del-personal-de-procuraduria-de-la-salle/
CATEGORIES:Pastoral
END:VEVENT
BEGIN:VEVENT
DTSTART;VALUE=DATE:20260117
DTEND;VALUE=DATE:20260118
DTSTAMP:20260425T195049
CREATED:20260120T204032Z
LAST-MODIFIED:20260120T204032Z
UID:15138-1768608000-1768694399@www.lasalle.org.co
SUMMARY:Ceremonia de Toma de Hábito e Ingreso al Postulantado
DESCRIPTION:
URL:https://www.lasalle.org.co/event/ceremonia-de-toma-de-habito-e-ingreso-al-postulantado/
CATEGORIES:Pastoral
END:VEVENT
BEGIN:VEVENT
DTSTART;VALUE=DATE:20260124
DTEND;VALUE=DATE:20260125
DTSTAMP:20260425T195049
CREATED:20260120T204441Z
LAST-MODIFIED:20260120T204441Z
UID:15146-1769212800-1769299199@www.lasalle.org.co
SUMMARY:San Francisco de Sales\, Obispo y Doctor de la Iglesia
DESCRIPTION:
URL:https://www.lasalle.org.co/event/san-francisco-de-sales-obispo-y-doctor-de-la-iglesia/
CATEGORIES:Pastoral
END:VEVENT
BEGIN:VEVENT
DTSTART;VALUE=DATE:20260125
DTEND;VALUE=DATE:20260126
DTSTAMP:20260425T195049
CREATED:20260120T204639Z
LAST-MODIFIED:20260120T204639Z
UID:15148-1769299200-1769385599@www.lasalle.org.co
SUMMARY:Día Vocacional Lasallista
DESCRIPTION:
URL:https://www.lasalle.org.co/event/dia-vocacional-lasallista/
CATEGORIES:Pastoral
END:VEVENT
BEGIN:VEVENT
DTSTART;VALUE=DATE:20260126
DTEND;VALUE=DATE:20260127
DTSTAMP:20260425T195049
CREATED:20260120T204731Z
LAST-MODIFIED:20260120T204731Z
UID:15150-1769385600-1769471999@www.lasalle.org.co
SUMMARY:Traslación de las reliquias de San Juan Bautista De La Salle
DESCRIPTION:
URL:https://www.lasalle.org.co/event/traslacion-de-las-reliquias-de-san-juan-bautista-de-la-salle/
CATEGORIES:Pastoral
END:VEVENT
BEGIN:VEVENT
DTSTART;VALUE=DATE:20260128
DTEND;VALUE=DATE:20260129
DTSTAMP:20260425T195049
CREATED:20260120T204914Z
LAST-MODIFIED:20260120T204914Z
UID:15154-1769558400-1769644799@www.lasalle.org.co
SUMMARY:Santo Tomás de Aquino\, Presbítero y Doctor de la Iglesia
DESCRIPTION:
URL:https://www.lasalle.org.co/event/santo-tomas-de-aquino-presbitero-y-doctor-de-la-iglesia/
CATEGORIES:Pastoral
END:VEVENT
BEGIN:VEVENT
DTSTART;VALUE=DATE:20260129
DTEND;VALUE=DATE:20260130
DTSTAMP:20260425T195049
CREATED:20260120T205236Z
LAST-MODIFIED:20260120T205236Z
UID:15156-1769644800-1769731199@www.lasalle.org.co
SUMMARY:Santos Timoteo y Tito\, Obispos
DESCRIPTION:
URL:https://www.lasalle.org.co/event/santos-timoteo-y-tito-obispos/
CATEGORIES:Pastoral
END:VEVENT
BEGIN:VEVENT
DTSTART;VALUE=DATE:20260130
DTEND;VALUE=DATE:20260131
DTSTAMP:20260425T195049
CREATED:20260120T205422Z
LAST-MODIFIED:20260120T205422Z
UID:15160-1769731200-1769817599@www.lasalle.org.co
SUMMARY:Santo Hermano Muciano María Wiaux\, Religioso
DESCRIPTION:
URL:https://www.lasalle.org.co/event/santo-hermano-muciano-maria-wiaux-religioso/
CATEGORIES:Pastoral
END:VEVENT
BEGIN:VEVENT
DTSTART;VALUE=DATE:20260131
DTEND;VALUE=DATE:20260201
DTSTAMP:20260425T195049
CREATED:20260120T205540Z
LAST-MODIFIED:20260120T205540Z
UID:15162-1769817600-1769903999@www.lasalle.org.co
SUMMARY:San Juan Bosco\, Presbítero
DESCRIPTION:
URL:https://www.lasalle.org.co/event/san-juan-bosco-presbitero/
CATEGORIES:Pastoral
END:VEVENT
END:VCALENDAR