BEGIN:VCALENDAR
VERSION:2.0
PRODID:-//Distrito Lasallista de Bogot&aacute; - ECPv6.10.0//NONSGML v1.0//EN
CALSCALE:GREGORIAN
METHOD:PUBLISH
X-ORIGINAL-URL:https://www.lasalle.org.co
X-WR-CALDESC:Eventos para Distrito Lasallista de Bogot&aacute;
REFRESH-INTERVAL;VALUE=DURATION:PT1H
X-Robots-Tag:noindex
X-PUBLISHED-TTL:PT1H
BEGIN:VTIMEZONE
TZID:America/New_York
BEGIN:DAYLIGHT
TZOFFSETFROM:-0500
TZOFFSETTO:-0400
TZNAME:EDT
DTSTART:20260308T070000
END:DAYLIGHT
BEGIN:STANDARD
TZOFFSETFROM:-0400
TZOFFSETTO:-0500
TZNAME:EST
DTSTART:20261101T060000
END:STANDARD
END:VTIMEZONE
BEGIN:VEVENT
DTSTART;VALUE=DATE:20260309
DTEND;VALUE=DATE:20260310
DTSTAMP:20260425T163008
CREATED:20260223T002235Z
LAST-MODIFIED:20260223T002235Z
UID:15306-1773014400-1773100799@www.lasalle.org.co
SUMMARY:Grupo de reflexión Marco Educativo Lasallista
DESCRIPTION:
URL:https://www.lasalle.org.co/event/grupo-de-reflexion-marco-educativo-lasallista/
CATEGORIES:Pastoral
END:VEVENT
BEGIN:VEVENT
DTSTART;VALUE=DATE:20260313
DTEND;VALUE=DATE:20260314
DTSTAMP:20260425T163008
CREATED:20260302T154814Z
LAST-MODIFIED:20260302T154814Z
UID:15308-1773360000-1773446399@www.lasalle.org.co
SUMMARY:Cierre de Convocatoria VOLAR - Bogotá 2026
DESCRIPTION:
URL:https://www.lasalle.org.co/event/cierre-de-convocatoria-volar-bogota-2026/
CATEGORIES:Pastoral
END:VEVENT
BEGIN:VEVENT
DTSTART;VALUE=DATE:20260319
DTEND;VALUE=DATE:20260320
DTSTAMP:20260425T163008
CREATED:20260302T154814Z
LAST-MODIFIED:20260302T154814Z
UID:15310-1773878400-1773964799@www.lasalle.org.co
SUMMARY:San José\, esposo de María y Patrono del Instituto
DESCRIPTION:
URL:https://www.lasalle.org.co/event/san-jose-esposo-de-maria-y-patrono-del-instituto/
CATEGORIES:Pastoral
END:VEVENT
BEGIN:VEVENT
DTSTART;VALUE=DATE:20260322
DTEND;VALUE=DATE:20260323
DTSTAMP:20260425T163008
CREATED:20260316T153009Z
LAST-MODIFIED:20260316T153009Z
UID:15316-1774137600-1774223999@www.lasalle.org.co
SUMMARY:Fiesta de la Asunción del Señor
DESCRIPTION:
URL:https://www.lasalle.org.co/event/fiesta-de-la-asuncion-del-senor/
CATEGORIES:Pastoral
END:VEVENT
BEGIN:VEVENT
DTSTART;VALUE=DATE:20260323
DTEND;VALUE=DATE:20260324
DTSTAMP:20260425T163008
CREATED:20260326T143356Z
LAST-MODIFIED:20260326T143356Z
UID:15318-1774224000-1774310399@www.lasalle.org.co
SUMMARY:Santo Toribio de Mogrovejo
DESCRIPTION:
URL:https://www.lasalle.org.co/event/santo-toribio-de-mogrovejo/
CATEGORIES:Pastoral
END:VEVENT
BEGIN:VEVENT
DTSTART;VALUE=DATE:20260325
DTEND;VALUE=DATE:20260326
DTSTAMP:20260425T163008
CREATED:20260326T143355Z
LAST-MODIFIED:20260326T143355Z
UID:15320-1774396800-1774483199@www.lasalle.org.co
SUMMARY:Reunión Nodo de la Ética del Cuidado y Ecología Integral
DESCRIPTION:
URL:https://www.lasalle.org.co/event/reunion-nodo-de-la-etica-del-cuidado-y-ecologia-integral/
CATEGORIES:Pastoral
END:VEVENT
BEGIN:VEVENT
DTSTART;VALUE=DATE:20260325
DTEND;VALUE=DATE:20260326
DTSTAMP:20260425T163008
CREATED:20260326T143355Z
LAST-MODIFIED:20260326T143355Z
UID:15322-1774396800-1774483199@www.lasalle.org.co
SUMMARY:Día Vocacional Lasallista
DESCRIPTION:
URL:https://www.lasalle.org.co/event/dia-vocacional-lasallista-marzo/
CATEGORIES:Pastoral
END:VEVENT
BEGIN:VEVENT
DTSTART;VALUE=DATE:20260327
DTEND;VALUE=DATE:20260328
DTSTAMP:20260425T163008
CREATED:20260326T143355Z
LAST-MODIFIED:20260326T143355Z
UID:15326-1774569600-1774655999@www.lasalle.org.co
SUMMARY:Cierre de verificación y selección de Voluntarios VOLAR - Bogotá 2026
DESCRIPTION:
URL:https://www.lasalle.org.co/event/cierre-de-verificacion-y-seleccion-de-voluntarios-volar-bogota-2026/
CATEGORIES:Pastoral
END:VEVENT
BEGIN:VEVENT
DTSTART;TZID=America/New_York:20260328T000000
DTEND;TZID=America/New_York:20260404T235900
DTSTAMP:20260425T163008
CREATED:20260326T143355Z
LAST-MODIFIED:20260331T200737Z
UID:15328-1774656000-1775347140@www.lasalle.org.co
SUMMARY:Misión Vocacional Distrital - Turmequé Misión EntreLazos - San Vicente\, VillaGarzón - Orocué Escuela/Misión Distrital - La Reliquia
DESCRIPTION:
URL:https://www.lasalle.org.co/event/mision-vocacional-distrital-turmeque-mision-entrelazos-san-vicente-villagarzon-orocue-escuela-mision-distrital-la-reliquia/
CATEGORIES:Pastoral
END:VEVENT
END:VCALENDAR