BEGIN:VCALENDAR
VERSION:2.0
PRODID:-//Distrito Lasallista de Bogot&aacute; - ECPv6.10.0//NONSGML v1.0//EN
CALSCALE:GREGORIAN
METHOD:PUBLISH
X-ORIGINAL-URL:https://www.lasalle.org.co
X-WR-CALDESC:Eventos para Distrito Lasallista de Bogot&aacute;
REFRESH-INTERVAL;VALUE=DURATION:PT1H
X-Robots-Tag:noindex
X-PUBLISHED-TTL:PT1H
BEGIN:VTIMEZONE
TZID:America/New_York
BEGIN:DAYLIGHT
TZOFFSETFROM:-0500
TZOFFSETTO:-0400
TZNAME:EDT
DTSTART:20260308T070000
END:DAYLIGHT
BEGIN:STANDARD
TZOFFSETFROM:-0400
TZOFFSETTO:-0500
TZNAME:EST
DTSTART:20261101T060000
END:STANDARD
END:VTIMEZONE
BEGIN:VEVENT
DTSTART;VALUE=DATE:20260325
DTEND;VALUE=DATE:20260326
DTSTAMP:20260425T181246
CREATED:20260326T143355Z
LAST-MODIFIED:20260326T143355Z
UID:15320-1774396800-1774483199@www.lasalle.org.co
SUMMARY:Reunión Nodo de la Ética del Cuidado y Ecología Integral
DESCRIPTION:
URL:https://www.lasalle.org.co/event/reunion-nodo-de-la-etica-del-cuidado-y-ecologia-integral/
CATEGORIES:Pastoral
END:VEVENT
BEGIN:VEVENT
DTSTART;VALUE=DATE:20260325
DTEND;VALUE=DATE:20260326
DTSTAMP:20260425T181246
CREATED:20260326T143355Z
LAST-MODIFIED:20260326T143355Z
UID:15322-1774396800-1774483199@www.lasalle.org.co
SUMMARY:Día Vocacional Lasallista
DESCRIPTION:
URL:https://www.lasalle.org.co/event/dia-vocacional-lasallista-marzo/
CATEGORIES:Pastoral
END:VEVENT
END:VCALENDAR