BEGIN:VCALENDAR
VERSION:2.0
PRODID:-//Distrito Lasallista de Bogot&aacute; - ECPv6.10.0//NONSGML v1.0//EN
CALSCALE:GREGORIAN
METHOD:PUBLISH
X-WR-CALNAME:Distrito Lasallista de Bogot&aacute;
X-ORIGINAL-URL:https://www.lasalle.org.co
X-WR-CALDESC:Eventos para Distrito Lasallista de Bogot&aacute;
REFRESH-INTERVAL;VALUE=DURATION:PT1H
X-Robots-Tag:noindex
X-PUBLISHED-TTL:PT1H
BEGIN:VTIMEZONE
TZID:America/New_York
BEGIN:DAYLIGHT
TZOFFSETFROM:-0500
TZOFFSETTO:-0400
TZNAME:EDT
DTSTART:20260308T070000
END:DAYLIGHT
BEGIN:STANDARD
TZOFFSETFROM:-0400
TZOFFSETTO:-0500
TZNAME:EST
DTSTART:20261101T060000
END:STANDARD
END:VTIMEZONE
BEGIN:VEVENT
DTSTART;VALUE=DATE:20260107
DTEND;VALUE=DATE:20260108
DTSTAMP:20260425T114510
CREATED:20260120T203207Z
LAST-MODIFIED:20260120T203414Z
UID:15121-1767744000-1767830399@www.lasalle.org.co
SUMMARY:Aniversario 32 años de presencia lasallista - I.E. Politécnico Álvaro González Santana Sogamoso (1994)
DESCRIPTION:
URL:https://www.lasalle.org.co/event/aniversario-32-anos-de-presencia-lasallista-i-e-politecnico-alvaro-gonzalez-santana-sogamoso-1994/
CATEGORIES:Red Educativa
END:VEVENT
BEGIN:VEVENT
DTSTART;VALUE=DATE:20260115
DTEND;VALUE=DATE:20260116
DTSTAMP:20260425T114510
CREATED:20260120T203917Z
LAST-MODIFIED:20260120T203917Z
UID:15136-1768435200-1768521599@www.lasalle.org.co
SUMMARY:Aniversario 1 año de presencia lasallista - I.E. Los Libertadores Sogamoso (2025)
DESCRIPTION:
URL:https://www.lasalle.org.co/event/aniversario-1-ano-de-presencia-lasallista-i-e-los-libertadores-sogamoso-2025/
CATEGORIES:Red Educativa
END:VEVENT
BEGIN:VEVENT
DTSTART;VALUE=DATE:20260122
DTEND;VALUE=DATE:20260123
DTSTAMP:20260425T114510
CREATED:20260120T204153Z
LAST-MODIFIED:20260120T204153Z
UID:15140-1769040000-1769126399@www.lasalle.org.co
SUMMARY:Encuentro de Rectores con la Comunidad Animadora (Presencial)
DESCRIPTION:
URL:https://www.lasalle.org.co/event/encuentro-de-rectores-con-la-comunidad-animadora-presencial/
CATEGORIES:Red Educativa
END:VEVENT
BEGIN:VEVENT
DTSTART;VALUE=DATE:20260123
DTEND;VALUE=DATE:20260124
DTSTAMP:20260425T114510
CREATED:20260120T204301Z
LAST-MODIFIED:20260120T204301Z
UID:15142-1769126400-1769212799@www.lasalle.org.co
SUMMARY:Encuentro de Rectores y Directores con la Comunidad Animadora (Presencial)
DESCRIPTION:
URL:https://www.lasalle.org.co/event/encuentro-de-rectores-y-directores-con-la-comunidad-animadora-presencial/
CATEGORIES:Red Educativa
END:VEVENT
BEGIN:VEVENT
DTSTART;VALUE=DATE:20260124
DTEND;VALUE=DATE:20260125
DTSTAMP:20260425T114510
CREATED:20260120T204353Z
LAST-MODIFIED:20260120T204353Z
UID:15144-1769212800-1769299199@www.lasalle.org.co
SUMMARY:Encuentro de Directores con la Comunidad Animadora (Presencial)
DESCRIPTION:
URL:https://www.lasalle.org.co/event/encuentro-de-directores-con-la-comunidad-animadora-presencial/
CATEGORIES:Red Educativa
END:VEVENT
BEGIN:VEVENT
DTSTART;VALUE=DATE:20260126
DTEND;VALUE=DATE:20260127
DTSTAMP:20260425T114510
CREATED:20260120T204820Z
LAST-MODIFIED:20260120T204846Z
UID:15152-1769385600-1769471999@www.lasalle.org.co
SUMMARY:Inicio de Clase 2026
DESCRIPTION:
URL:https://www.lasalle.org.co/event/inicio-de-clase-2026/
CATEGORIES:Red Educativa
END:VEVENT
BEGIN:VEVENT
DTSTART;VALUE=DATE:20260129
DTEND;VALUE=DATE:20260130
DTSTAMP:20260425T114510
CREATED:20260120T205329Z
LAST-MODIFIED:20260120T205329Z
UID:15158-1769644800-1769731199@www.lasalle.org.co
SUMMARY:Aniversario 66 años de presencia lasallista - I.E. San José de La Salle Bucaramanga (1960)
DESCRIPTION:
URL:https://www.lasalle.org.co/event/aniversario-66-anos-de-presencia-lasallista-i-e-san-jose-de-la-salle-bucaramanga-1960/
CATEGORIES:Red Educativa
END:VEVENT
END:VCALENDAR