BEGIN:VCALENDAR
VERSION:2.0
PRODID:-//Distrito Lasallista de Bogot&aacute; - ECPv6.10.0//NONSGML v1.0//EN
CALSCALE:GREGORIAN
METHOD:PUBLISH
X-WR-CALNAME:Distrito Lasallista de Bogot&aacute;
X-ORIGINAL-URL:https://www.lasalle.org.co
X-WR-CALDESC:Eventos para Distrito Lasallista de Bogot&aacute;
REFRESH-INTERVAL;VALUE=DURATION:PT1H
X-Robots-Tag:noindex
X-PUBLISHED-TTL:PT1H
BEGIN:VTIMEZONE
TZID:America/New_York
BEGIN:DAYLIGHT
TZOFFSETFROM:-0500
TZOFFSETTO:-0400
TZNAME:EDT
DTSTART:20260308T070000
END:DAYLIGHT
BEGIN:STANDARD
TZOFFSETFROM:-0400
TZOFFSETTO:-0500
TZNAME:EST
DTSTART:20261101T060000
END:STANDARD
END:VTIMEZONE
BEGIN:VEVENT
DTSTART;VALUE=DATE:20260201
DTEND;VALUE=DATE:20260202
DTSTAMP:20260425T114129
CREATED:20260130T162441Z
LAST-MODIFIED:20260130T162441Z
UID:15199-1769904000-1769990399@www.lasalle.org.co
SUMMARY:Aniversario 23 años de presencia lasallista - Colegio Juan Luis Londoño I.E.D. Bogotá (2003)
DESCRIPTION:
URL:https://www.lasalle.org.co/event/aniversario-23-anos-de-presencia-lasallista-colegio-juan-luis-londono-i-e-d-bogota-2003/
CATEGORIES:Red Educativa
END:VEVENT
END:VCALENDAR