BEGIN:VCALENDAR
VERSION:2.0
PRODID:-//Distrito Lasallista de Bogot&aacute; - ECPv6.10.0//NONSGML v1.0//EN
CALSCALE:GREGORIAN
METHOD:PUBLISH
X-WR-CALNAME:Distrito Lasallista de Bogot&aacute;
X-ORIGINAL-URL:https://www.lasalle.org.co
X-WR-CALDESC:Eventos para Distrito Lasallista de Bogot&aacute;
REFRESH-INTERVAL;VALUE=DURATION:PT1H
X-Robots-Tag:noindex
X-PUBLISHED-TTL:PT1H
BEGIN:VTIMEZONE
TZID:America/New_York
BEGIN:DAYLIGHT
TZOFFSETFROM:-0500
TZOFFSETTO:-0400
TZNAME:EDT
DTSTART:20260308T070000
END:DAYLIGHT
BEGIN:STANDARD
TZOFFSETFROM:-0400
TZOFFSETTO:-0500
TZNAME:EST
DTSTART:20261101T060000
END:STANDARD
END:VTIMEZONE
BEGIN:VEVENT
DTSTART;VALUE=DATE:20260320
DTEND;VALUE=DATE:20260321
DTSTAMP:20260425T101840
CREATED:20260302T154814Z
LAST-MODIFIED:20260302T154814Z
UID:15312-1773964800-1774051199@www.lasalle.org.co
SUMMARY:Aniversario 24 años de presencia lasallista - Escuela La Salle para la Paz y la Vida Villavicencio (2002)
DESCRIPTION:
URL:https://www.lasalle.org.co/event/aniversario-24-anos-de-presencia-lasallista-escuela-la-salle-para-la-paz-y-la-vida-villavicencio-2002/
CATEGORIES:Red Educativa
END:VEVENT
END:VCALENDAR